BEGIN:VCALENDAR
VERSION:2.0
PRODID:-//Edgewall Software//NONSGML Trac 1.4.3//EN
METHOD:PUBLISH
X-WR-CALNAME:mussa - Roadmap
X-WR-CALDESC:My example project
X-WR-TIMEZONE:UTC-07:00
BEGIN:VEVENT
UID:</milestone/release_1.1@localhost:8003>
DTSTAMP:20061108T080000Z
DTSTART;VALUE=DATE:20061108
SUMMARY:Milestone release_1.1
URL:http://localhost:8003/milestone/release_1.1
DESCRIPTION:Add some useability enhancements flushed out by the 1.0 release
  of mussa.
END:VEVENT
BEGIN:VEVENT
UID:</milestone/release_1.2@localhost:8003>
DTSTAMP:20070501T070000Z
DTSTART;VALUE=DATE:20070501
SUMMARY:Milestone release_1.2
URL:http://localhost:8003/milestone/release_1.2
END:VEVENT
END:VCALENDAR
